BEGIN:VCALENDAR
VERSION:2.0
PRODID:-//Rye Yacht Club - ECPv6.15.11//NONSGML v1.0//EN
CALSCALE:GREGORIAN
METHOD:PUBLISH
X-WR-CALNAME:Rye Yacht Club
X-ORIGINAL-URL:https://ryeyachtclub.au
X-WR-CALDESC:Events for Rye Yacht Club
REFRESH-INTERVAL;VALUE=DURATION:PT1H
X-Robots-Tag:noindex
X-PUBLISHED-TTL:PT1H
BEGIN:VTIMEZONE
TZID:Australia/Melbourne
BEGIN:STANDARD
TZOFFSETFROM:+1100
TZOFFSETTO:+1000
TZNAME:AEST
DTSTART:20250405T160000
END:STANDARD
BEGIN:DAYLIGHT
TZOFFSETFROM:+1000
TZOFFSETTO:+1100
TZNAME:AEDT
DTSTART:20251004T160000
END:DAYLIGHT
BEGIN:STANDARD
TZOFFSETFROM:+1100
TZOFFSETTO:+1000
TZNAME:AEST
DTSTART:20260404T160000
END:STANDARD
BEGIN:DAYLIGHT
TZOFFSETFROM:+1000
TZOFFSETTO:+1100
TZNAME:AEDT
DTSTART:20261003T160000
END:DAYLIGHT
BEGIN:STANDARD
TZOFFSETFROM:+1100
TZOFFSETTO:+1000
TZNAME:AEST
DTSTART:20270403T160000
END:STANDARD
BEGIN:DAYLIGHT
TZOFFSETFROM:+1000
TZOFFSETTO:+1100
TZNAME:AEDT
DTSTART:20271002T160000
END:DAYLIGHT
END:VTIMEZONE
BEGIN:VEVENT
DTSTART;TZID=Australia/Melbourne:20260206T173000
DTEND;TZID=Australia/Melbourne:20260206T193000
DTSTAMP:20260422T023219
CREATED:20260121T045324Z
LAST-MODIFIED:20260121T045324Z
UID:962-1770399000-1770406200@ryeyachtclub.au
SUMMARY:Friday Twilight Session
DESCRIPTION:Come down for our fortnightly Friday Twilight Session\, have dinner on the deck\, enjoy the sunset and the Bar being open. BYO dinner.
URL:https://ryeyachtclub.au/event/friday-twilight-session-3/
CATEGORIES:Social
END:VEVENT
BEGIN:VEVENT
DTSTART;TZID=Australia/Melbourne:20260220T173000
DTEND;TZID=Australia/Melbourne:20260220T193000
DTSTAMP:20260422T023219
CREATED:20260121T045408Z
LAST-MODIFIED:20260121T045408Z
UID:964-1771608600-1771615800@ryeyachtclub.au
SUMMARY:Friday Twilight Session
DESCRIPTION:Come down for our fortnightly Friday Twilight Session\, have dinner on the deck\, enjoy the sunset and the Bar being open. BYO dinner.
URL:https://ryeyachtclub.au/event/friday-twilight-session-4/
CATEGORIES:Social
END:VEVENT
BEGIN:VEVENT
DTSTART;TZID=Australia/Melbourne:20260228T173000
DTEND;TZID=Australia/Melbourne:20260228T220000
DTSTAMP:20260422T023219
CREATED:20260219T055838Z
LAST-MODIFIED:20260219T055919Z
UID:1018-1772299800-1772316000@ryeyachtclub.au
SUMMARY:BLING Gala Night
DESCRIPTION:From 5:30pm ’til late.\nDress to impress… or just add a little sparkle.
URL:https://ryeyachtclub.au/event/bling-gala-night/
CATEGORIES:Social
END:VEVENT
END:VCALENDAR