BEGIN:VCALENDAR
VERSION:2.0
PRODID:-//Rye Yacht Club - ECPv6.15.11//NONSGML v1.0//EN
CALSCALE:GREGORIAN
METHOD:PUBLISH
X-ORIGINAL-URL:https://ryeyachtclub.au
X-WR-CALDESC:Events for Rye Yacht Club
REFRESH-INTERVAL;VALUE=DURATION:PT1H
X-Robots-Tag:noindex
X-PUBLISHED-TTL:PT1H
BEGIN:VTIMEZONE
TZID:Australia/Melbourne
BEGIN:STANDARD
TZOFFSETFROM:+1100
TZOFFSETTO:+1000
TZNAME:AEST
DTSTART:20250405T160000
END:STANDARD
BEGIN:DAYLIGHT
TZOFFSETFROM:+1000
TZOFFSETTO:+1100
TZNAME:AEDT
DTSTART:20251004T160000
END:DAYLIGHT
BEGIN:STANDARD
TZOFFSETFROM:+1100
TZOFFSETTO:+1000
TZNAME:AEST
DTSTART:20260404T160000
END:STANDARD
BEGIN:DAYLIGHT
TZOFFSETFROM:+1000
TZOFFSETTO:+1100
TZNAME:AEDT
DTSTART:20261003T160000
END:DAYLIGHT
BEGIN:STANDARD
TZOFFSETFROM:+1100
TZOFFSETTO:+1000
TZNAME:AEST
DTSTART:20270403T160000
END:STANDARD
BEGIN:DAYLIGHT
TZOFFSETFROM:+1000
TZOFFSETTO:+1100
TZNAME:AEDT
DTSTART:20271002T160000
END:DAYLIGHT
END:VTIMEZONE
BEGIN:VEVENT
DTSTART;TZID=Australia/Melbourne:20260102T173000
DTEND;TZID=Australia/Melbourne:20260102T193000
DTSTAMP:20260422T042320
CREATED:20260121T045133Z
LAST-MODIFIED:20260121T045133Z
UID:958-1767375000-1767382200@ryeyachtclub.au
SUMMARY:Friday Twilight Session
DESCRIPTION:Come down for our fortnightly Friday Twilight Session\, have dinner on the deck\, enjoy the sunset and the Bar being open. BYO dinner.
URL:https://ryeyachtclub.au/event/friday-twilight-session/
CATEGORIES:Social
END:VEVENT
BEGIN:VEVENT
DTSTART;VALUE=DATE:20260103
DTEND;VALUE=DATE:20260104
DTSTAMP:20260422T042320
CREATED:20260121T045508Z
LAST-MODIFIED:20260121T045508Z
UID:966-1767398400-1767484799@ryeyachtclub.au
SUMMARY:Bunnings BBQ Fundraiser
DESCRIPTION:
URL:https://ryeyachtclub.au/event/bunnings-bbq-fundraiser/
CATEGORIES:Social
END:VEVENT
BEGIN:VEVENT
DTSTART;TZID=Australia/Melbourne:20260116T173000
DTEND;TZID=Australia/Melbourne:20260116T193000
DTSTAMP:20260422T042320
CREATED:20260121T045224Z
LAST-MODIFIED:20260121T045224Z
UID:960-1768584600-1768591800@ryeyachtclub.au
SUMMARY:Friday Twilight Session
DESCRIPTION:Come down for our fortnightly Friday Twilight Session\, have dinner on the deck\, enjoy the sunset and the Bar being open. BYO dinner.
URL:https://ryeyachtclub.au/event/friday-twilight-session-2/
CATEGORIES:Social
END:VEVENT
BEGIN:VEVENT
DTSTART;VALUE=DATE:20260126
DTEND;VALUE=DATE:20260127
DTSTAMP:20260422T042320
CREATED:20260121T045626Z
LAST-MODIFIED:20260121T045626Z
UID:968-1769385600-1769471999@ryeyachtclub.au
SUMMARY:Jan 26 Public Holiday
DESCRIPTION:TBC
URL:https://ryeyachtclub.au/event/jan-26-public-holiday/
CATEGORIES:Social
END:VEVENT
END:VCALENDAR