BEGIN:VCALENDAR
VERSION:2.0
PRODID:-//Rye Yacht Club - ECPv6.15.11//NONSGML v1.0//EN
CALSCALE:GREGORIAN
METHOD:PUBLISH
X-WR-CALNAME:Rye Yacht Club
X-ORIGINAL-URL:https://ryeyachtclub.au
X-WR-CALDESC:Events for Rye Yacht Club
REFRESH-INTERVAL;VALUE=DURATION:PT1H
X-Robots-Tag:noindex
X-PUBLISHED-TTL:PT1H
BEGIN:VTIMEZONE
TZID:Australia/Melbourne
BEGIN:STANDARD
TZOFFSETFROM:+1100
TZOFFSETTO:+1000
TZNAME:AEST
DTSTART:20240406T160000
END:STANDARD
BEGIN:DAYLIGHT
TZOFFSETFROM:+1000
TZOFFSETTO:+1100
TZNAME:AEDT
DTSTART:20241005T160000
END:DAYLIGHT
BEGIN:STANDARD
TZOFFSETFROM:+1100
TZOFFSETTO:+1000
TZNAME:AEST
DTSTART:20250405T160000
END:STANDARD
BEGIN:DAYLIGHT
TZOFFSETFROM:+1000
TZOFFSETTO:+1100
TZNAME:AEDT
DTSTART:20251004T160000
END:DAYLIGHT
BEGIN:STANDARD
TZOFFSETFROM:+1100
TZOFFSETTO:+1000
TZNAME:AEST
DTSTART:20260404T160000
END:STANDARD
BEGIN:DAYLIGHT
TZOFFSETFROM:+1000
TZOFFSETTO:+1100
TZNAME:AEDT
DTSTART:20261003T160000
END:DAYLIGHT
END:VTIMEZONE
BEGIN:VEVENT
DTSTART;TZID=Australia/Melbourne:20251205T173000
DTEND;TZID=Australia/Melbourne:20251205T193000
DTSTAMP:20260422T060708
CREATED:20251028T234919Z
LAST-MODIFIED:20251028T234919Z
UID:949-1764955800-1764963000@ryeyachtclub.au
SUMMARY:Friday
DESCRIPTION:Come down enjoy the Bar being open. BYO dinner.
URL:https://ryeyachtclub.au/event/friday-3/
CATEGORIES:Social
END:VEVENT
BEGIN:VEVENT
DTSTART;VALUE=DATE:20251206
DTEND;VALUE=DATE:20251207
DTSTAMP:20260422T060708
CREATED:20251028T235152Z
LAST-MODIFIED:20251028T235152Z
UID:953-1764979200-1765065599@ryeyachtclub.au
SUMMARY:Bunnings BBQ
DESCRIPTION:Come volunteer and join us at Bunnings
URL:https://ryeyachtclub.au/event/bunnings-bbq/
CATEGORIES:Social
END:VEVENT
BEGIN:VEVENT
DTSTART;TZID=Australia/Melbourne:20251219T173000
DTEND;TZID=Australia/Melbourne:20251219T193000
DTSTAMP:20260422T060708
CREATED:20251028T235003Z
LAST-MODIFIED:20251028T235003Z
UID:951-1766165400-1766172600@ryeyachtclub.au
SUMMARY:Friday
DESCRIPTION:Come down enjoy the Bar being open. BYO dinner.
URL:https://ryeyachtclub.au/event/friday-4/
CATEGORIES:Social
END:VEVENT
BEGIN:VEVENT
DTSTART;VALUE=DATE:20251220
DTEND;VALUE=DATE:20251221
DTSTAMP:20260422T060708
CREATED:20251028T235400Z
LAST-MODIFIED:20251028T235400Z
UID:955-1766188800-1766275199@ryeyachtclub.au
SUMMARY:Christmas Family Twilight Picnic
DESCRIPTION:Come down join us for twilight picnic. Bar will be Open. SPECIAL GUEST – SANTA CLAUS. Lolly bags\, Raffles\, Gift Vouchers.
URL:https://ryeyachtclub.au/event/christmas-family-twilight-picnic/
CATEGORIES:Social
END:VEVENT
END:VCALENDAR