BEGIN:VCALENDAR
VERSION:2.0
PRODID:-//Rye Yacht Club - ECPv6.15.11//NONSGML v1.0//EN
CALSCALE:GREGORIAN
METHOD:PUBLISH
X-WR-CALNAME:Rye Yacht Club
X-ORIGINAL-URL:https://ryeyachtclub.au
X-WR-CALDESC:Events for Rye Yacht Club
REFRESH-INTERVAL;VALUE=DURATION:PT1H
X-Robots-Tag:noindex
X-PUBLISHED-TTL:PT1H
BEGIN:VTIMEZONE
TZID:Australia/Melbourne
BEGIN:STANDARD
TZOFFSETFROM:+1100
TZOFFSETTO:+1000
TZNAME:AEST
DTSTART:20240406T160000
END:STANDARD
BEGIN:DAYLIGHT
TZOFFSETFROM:+1000
TZOFFSETTO:+1100
TZNAME:AEDT
DTSTART:20241005T160000
END:DAYLIGHT
BEGIN:STANDARD
TZOFFSETFROM:+1100
TZOFFSETTO:+1000
TZNAME:AEST
DTSTART:20250405T160000
END:STANDARD
BEGIN:DAYLIGHT
TZOFFSETFROM:+1000
TZOFFSETTO:+1100
TZNAME:AEDT
DTSTART:20251004T160000
END:DAYLIGHT
BEGIN:STANDARD
TZOFFSETFROM:+1100
TZOFFSETTO:+1000
TZNAME:AEST
DTSTART:20260404T160000
END:STANDARD
BEGIN:DAYLIGHT
TZOFFSETFROM:+1000
TZOFFSETTO:+1100
TZNAME:AEDT
DTSTART:20261003T160000
END:DAYLIGHT
BEGIN:STANDARD
TZOFFSETFROM:+1100
TZOFFSETTO:+1000
TZNAME:AEST
DTSTART:20270403T160000
END:STANDARD
BEGIN:DAYLIGHT
TZOFFSETFROM:+1000
TZOFFSETTO:+1100
TZNAME:AEDT
DTSTART:20271002T160000
END:DAYLIGHT
END:VTIMEZONE
BEGIN:VEVENT
DTSTART;TZID=Australia/Melbourne:20260329T090000
DTEND;TZID=Australia/Melbourne:20260329T113000
DTSTAMP:20260421T213236
CREATED:20251007T235550Z
LAST-MODIFIED:20251007T235550Z
UID:674-1774774800-1774783800@ryeyachtclub.au
SUMMARY:Tackers Course 2
DESCRIPTION:
URL:https://ryeyachtclub.au/event/tackers-course-2-8/
CATEGORIES:Sailing School,Tackers
END:VEVENT
BEGIN:VEVENT
DTSTART;TZID=Australia/Melbourne:20260322T090000
DTEND;TZID=Australia/Melbourne:20260322T113000
DTSTAMP:20260421T213236
CREATED:20251007T235506Z
LAST-MODIFIED:20251007T235519Z
UID:672-1774170000-1774179000@ryeyachtclub.au
SUMMARY:Tackers Course 2
DESCRIPTION:
URL:https://ryeyachtclub.au/event/tackers-course-2-7/
CATEGORIES:Sailing School,Tackers
END:VEVENT
BEGIN:VEVENT
DTSTART;TZID=Australia/Melbourne:20260315T090000
DTEND;TZID=Australia/Melbourne:20260315T113000
DTSTAMP:20260421T213236
CREATED:20251007T235440Z
LAST-MODIFIED:20251007T235440Z
UID:670-1773565200-1773574200@ryeyachtclub.au
SUMMARY:Tackers Course 2
DESCRIPTION:
URL:https://ryeyachtclub.au/event/tackers-course-2-6/
CATEGORIES:Sailing School,Tackers
END:VEVENT
BEGIN:VEVENT
DTSTART;TZID=Australia/Melbourne:20260301T090000
DTEND;TZID=Australia/Melbourne:20260301T113000
DTSTAMP:20260421T213236
CREATED:20251007T235407Z
LAST-MODIFIED:20251007T235407Z
UID:668-1772355600-1772364600@ryeyachtclub.au
SUMMARY:Tackers Course 2
DESCRIPTION:
URL:https://ryeyachtclub.au/event/tackers-course-2-5/
CATEGORIES:Sailing School,Tackers
END:VEVENT
BEGIN:VEVENT
DTSTART;TZID=Australia/Melbourne:20260222T090000
DTEND;TZID=Australia/Melbourne:20260222T113000
DTSTAMP:20260421T213236
CREATED:20251007T235332Z
LAST-MODIFIED:20251007T235332Z
UID:666-1771750800-1771759800@ryeyachtclub.au
SUMMARY:Tackers Course 2
DESCRIPTION:
URL:https://ryeyachtclub.au/event/tackers-course-2-4/
CATEGORIES:Sailing School,Tackers
END:VEVENT
BEGIN:VEVENT
DTSTART;TZID=Australia/Melbourne:20260215T090000
DTEND;TZID=Australia/Melbourne:20260215T113000
DTSTAMP:20260421T213237
CREATED:20251007T235203Z
LAST-MODIFIED:20251007T235203Z
UID:663-1771146000-1771155000@ryeyachtclub.au
SUMMARY:Tackers Course 2
DESCRIPTION:
URL:https://ryeyachtclub.au/event/tackers-course-2-3/
CATEGORIES:Sailing School,Tackers
END:VEVENT
BEGIN:VEVENT
DTSTART;TZID=Australia/Melbourne:20260208T090000
DTEND;TZID=Australia/Melbourne:20260208T113000
DTSTAMP:20260421T213237
CREATED:20251007T235130Z
LAST-MODIFIED:20251007T235130Z
UID:661-1770541200-1770550200@ryeyachtclub.au
SUMMARY:Tackers Course 2
DESCRIPTION:
URL:https://ryeyachtclub.au/event/tackers-course-2-2/
CATEGORIES:Sailing School,Tackers
END:VEVENT
BEGIN:VEVENT
DTSTART;TZID=Australia/Melbourne:20260201T090000
DTEND;TZID=Australia/Melbourne:20260201T113000
DTSTAMP:20260421T213237
CREATED:20251007T235050Z
LAST-MODIFIED:20251007T235050Z
UID:659-1769936400-1769945400@ryeyachtclub.au
SUMMARY:Tackers Course 2
DESCRIPTION:
URL:https://ryeyachtclub.au/event/tackers-course-2/
CATEGORIES:Sailing School,Tackers
END:VEVENT
BEGIN:VEVENT
DTSTART;TZID=Australia/Melbourne:20260118T090000
DTEND;TZID=Australia/Melbourne:20260118T113000
DTSTAMP:20260421T213237
CREATED:20251007T235002Z
LAST-MODIFIED:20251007T235002Z
UID:657-1768726800-1768735800@ryeyachtclub.au
SUMMARY:Tackers Course 1
DESCRIPTION:
URL:https://ryeyachtclub.au/event/tackers-course-1-8/
CATEGORIES:Sailing School,Tackers
END:VEVENT
BEGIN:VEVENT
DTSTART;TZID=Australia/Melbourne:20260111T090000
DTEND;TZID=Australia/Melbourne:20260111T113000
DTSTAMP:20260421T213237
CREATED:20251007T234924Z
LAST-MODIFIED:20251007T234924Z
UID:655-1768122000-1768131000@ryeyachtclub.au
SUMMARY:Tackers Course 1
DESCRIPTION:
URL:https://ryeyachtclub.au/event/tackers-course-1-7/
CATEGORIES:Sailing School,Tackers
END:VEVENT
BEGIN:VEVENT
DTSTART;TZID=Australia/Melbourne:20251214T090000
DTEND;TZID=Australia/Melbourne:20251214T113000
DTSTAMP:20260421T213237
CREATED:20251007T234850Z
LAST-MODIFIED:20251007T234850Z
UID:653-1765702800-1765711800@ryeyachtclub.au
SUMMARY:Tackers Course 1
DESCRIPTION:
URL:https://ryeyachtclub.au/event/tackers-course-1-6/
CATEGORIES:Sailing School,Tackers
END:VEVENT
BEGIN:VEVENT
DTSTART;TZID=Australia/Melbourne:20251207T090000
DTEND;TZID=Australia/Melbourne:20251207T113000
DTSTAMP:20260421T213237
CREATED:20251007T234813Z
LAST-MODIFIED:20251007T234813Z
UID:651-1765098000-1765107000@ryeyachtclub.au
SUMMARY:Tackers Course 1
DESCRIPTION:
URL:https://ryeyachtclub.au/event/tackers-course-1-5/
CATEGORIES:Sailing School,Tackers
END:VEVENT
BEGIN:VEVENT
DTSTART;TZID=Australia/Melbourne:20251130T090000
DTEND;TZID=Australia/Melbourne:20251130T113000
DTSTAMP:20260421T213237
CREATED:20251007T234712Z
LAST-MODIFIED:20251007T234712Z
UID:649-1764493200-1764502200@ryeyachtclub.au
SUMMARY:Tackers Course 1
DESCRIPTION:
URL:https://ryeyachtclub.au/event/tackers-course-1-4/
CATEGORIES:Sailing School,Tackers
END:VEVENT
BEGIN:VEVENT
DTSTART;TZID=Australia/Melbourne:20251116T090000
DTEND;TZID=Australia/Melbourne:20251116T113000
DTSTAMP:20260421T213237
CREATED:20251007T234620Z
LAST-MODIFIED:20251007T234620Z
UID:647-1763283600-1763292600@ryeyachtclub.au
SUMMARY:Tackers Course 1
DESCRIPTION:
URL:https://ryeyachtclub.au/event/tackers-course-1-3/
CATEGORIES:Sailing School,Tackers
END:VEVENT
BEGIN:VEVENT
DTSTART;TZID=Australia/Melbourne:20251109T090000
DTEND;TZID=Australia/Melbourne:20251109T110000
DTSTAMP:20260421T213237
CREATED:20251007T234530Z
LAST-MODIFIED:20251007T234530Z
UID:645-1762678800-1762686000@ryeyachtclub.au
SUMMARY:Tackers Course 1
DESCRIPTION:
URL:https://ryeyachtclub.au/event/tackers-course-1-2/
CATEGORIES:Sailing School,Tackers
END:VEVENT
BEGIN:VEVENT
DTSTART;TZID=Australia/Melbourne:20251102T090000
DTEND;TZID=Australia/Melbourne:20251102T113000
DTSTAMP:20260421T213237
CREATED:20251007T234351Z
LAST-MODIFIED:20251007T234351Z
UID:643-1762074000-1762083000@ryeyachtclub.au
SUMMARY:Tackers Course 1
DESCRIPTION:
URL:https://ryeyachtclub.au/event/tackers-course-1/
CATEGORIES:Sailing School,Tackers
END:VEVENT
END:VCALENDAR