BEGIN:VCALENDAR
VERSION:2.0
PRODID:-//Rye Yacht Club - ECPv6.15.11//NONSGML v1.0//EN
CALSCALE:GREGORIAN
METHOD:PUBLISH
X-ORIGINAL-URL:https://ryeyachtclub.au
X-WR-CALDESC:Events for Rye Yacht Club
REFRESH-INTERVAL;VALUE=DURATION:PT1H
X-Robots-Tag:noindex
X-PUBLISHED-TTL:PT1H
BEGIN:VTIMEZONE
TZID:Australia/Melbourne
BEGIN:STANDARD
TZOFFSETFROM:+1100
TZOFFSETTO:+1000
TZNAME:AEST
DTSTART:20250405T160000
END:STANDARD
BEGIN:DAYLIGHT
TZOFFSETFROM:+1000
TZOFFSETTO:+1100
TZNAME:AEDT
DTSTART:20251004T160000
END:DAYLIGHT
BEGIN:STANDARD
TZOFFSETFROM:+1100
TZOFFSETTO:+1000
TZNAME:AEST
DTSTART:20260404T160000
END:STANDARD
BEGIN:DAYLIGHT
TZOFFSETFROM:+1000
TZOFFSETTO:+1100
TZNAME:AEDT
DTSTART:20261003T160000
END:DAYLIGHT
BEGIN:STANDARD
TZOFFSETFROM:+1100
TZOFFSETTO:+1000
TZNAME:AEST
DTSTART:20270403T160000
END:STANDARD
BEGIN:DAYLIGHT
TZOFFSETFROM:+1000
TZOFFSETTO:+1100
TZNAME:AEDT
DTSTART:20271002T160000
END:DAYLIGHT
END:VTIMEZONE
BEGIN:VEVENT
DTSTART;TZID=Australia/Melbourne:20260221T090000
DTEND;TZID=Australia/Melbourne:20260221T150000
DTSTAMP:20260422T082248
CREATED:20251008T010013Z
LAST-MODIFIED:20251008T010013Z
UID:818-1771664400-1771686000@ryeyachtclub.au
SUMMARY:Adult Start Sailing 1 & 2 - Course 2
DESCRIPTION:Reserve Day
URL:https://ryeyachtclub.au/event/adult-start-sailing-1-2-course-2-6/
CATEGORIES:Adult Sailing,Sailing School
END:VEVENT
BEGIN:VEVENT
DTSTART;TZID=Australia/Melbourne:20260221T123000
DTEND;TZID=Australia/Melbourne:20260221T150000
DTSTAMP:20260422T082248
CREATED:20251008T002932Z
LAST-MODIFIED:20251008T002932Z
UID:754-1771677000-1771686000@ryeyachtclub.au
SUMMARY:Development Squad
DESCRIPTION:
URL:https://ryeyachtclub.au/event/development-squad-24/
CATEGORIES:Development Squad,Sailing School
END:VEVENT
BEGIN:VEVENT
DTSTART;TZID=Australia/Melbourne:20260221T153000
DTEND;TZID=Australia/Melbourne:20260221T173000
DTSTAMP:20260422T082248
CREATED:20251008T011156Z
LAST-MODIFIED:20251008T011156Z
UID:856-1771687800-1771695000@ryeyachtclub.au
SUMMARY:Adult Coaching
DESCRIPTION:
URL:https://ryeyachtclub.au/event/adult-coaching-12/
CATEGORIES:Adult Coaching,Sailing School
END:VEVENT
BEGIN:VEVENT
DTSTART;TZID=Australia/Melbourne:20260222T090000
DTEND;TZID=Australia/Melbourne:20260222T113000
DTSTAMP:20260422T082248
CREATED:20251007T235332Z
LAST-MODIFIED:20251007T235332Z
UID:666-1771750800-1771759800@ryeyachtclub.au
SUMMARY:Tackers Course 2
DESCRIPTION:
URL:https://ryeyachtclub.au/event/tackers-course-2-4/
CATEGORIES:Sailing School,Tackers
END:VEVENT
BEGIN:VEVENT
DTSTART;TZID=Australia/Melbourne:20260222T090000
DTEND;TZID=Australia/Melbourne:20260222T113000
DTSTAMP:20260422T082248
CREATED:20251008T003215Z
LAST-MODIFIED:20251008T003215Z
UID:765-1771750800-1771759800@ryeyachtclub.au
SUMMARY:Development Squad
DESCRIPTION:
URL:https://ryeyachtclub.au/event/development-squad-29/
CATEGORIES:Development Squad,Sailing School
END:VEVENT
BEGIN:VEVENT
DTSTART;TZID=Australia/Melbourne:20260228T090000
DTEND;TZID=Australia/Melbourne:20260228T113000
DTSTAMP:20260422T082248
CREATED:20251008T000641Z
LAST-MODIFIED:20251008T000641Z
UID:700-1772269200-1772278200@ryeyachtclub.au
SUMMARY:OutThere Sailing
DESCRIPTION:
URL:https://ryeyachtclub.au/event/outthere-sailing-13/
CATEGORIES:OutThere Sailing,Sailing School
END:VEVENT
BEGIN:VEVENT
DTSTART;TZID=Australia/Melbourne:20260228T090000
DTEND;TZID=Australia/Melbourne:20260228T150000
DTSTAMP:20260422T082248
CREATED:20251008T010051Z
LAST-MODIFIED:20251008T010051Z
UID:820-1772269200-1772290800@ryeyachtclub.au
SUMMARY:Adult Start Sailing 1 & 2 - Course 3
DESCRIPTION:
URL:https://ryeyachtclub.au/event/adult-start-sailing-1-2-course-3/
CATEGORIES:Adult Sailing,Sailing School
END:VEVENT
BEGIN:VEVENT
DTSTART;TZID=Australia/Melbourne:20260228T123000
DTEND;TZID=Australia/Melbourne:20260228T150000
DTSTAMP:20260422T082248
CREATED:20251008T003014Z
LAST-MODIFIED:20251008T003014Z
UID:756-1772281800-1772290800@ryeyachtclub.au
SUMMARY:Development Squad
DESCRIPTION:
URL:https://ryeyachtclub.au/event/development-squad-25/
CATEGORIES:Development Squad,Sailing School
END:VEVENT
BEGIN:VEVENT
DTSTART;TZID=Australia/Melbourne:20260228T153000
DTEND;TZID=Australia/Melbourne:20260228T173000
DTSTAMP:20260422T082248
CREATED:20251008T011234Z
LAST-MODIFIED:20251008T011234Z
UID:858-1772292600-1772299800@ryeyachtclub.au
SUMMARY:Adult Coaching
DESCRIPTION:
URL:https://ryeyachtclub.au/event/adult-coaching-13/
CATEGORIES:Adult Coaching,Sailing School
END:VEVENT
BEGIN:VEVENT
DTSTART;TZID=Australia/Melbourne:20260301T090000
DTEND;TZID=Australia/Melbourne:20260301T113000
DTSTAMP:20260422T082248
CREATED:20251007T235407Z
LAST-MODIFIED:20251007T235407Z
UID:668-1772355600-1772364600@ryeyachtclub.au
SUMMARY:Tackers Course 2
DESCRIPTION:
URL:https://ryeyachtclub.au/event/tackers-course-2-5/
CATEGORIES:Sailing School,Tackers
END:VEVENT
BEGIN:VEVENT
DTSTART;TZID=Australia/Melbourne:20260301T090000
DTEND;TZID=Australia/Melbourne:20260301T113000
DTSTAMP:20260422T082248
CREATED:20251008T003440Z
LAST-MODIFIED:20251008T003440Z
UID:773-1772355600-1772364600@ryeyachtclub.au
SUMMARY:Development Squad
DESCRIPTION:
URL:https://ryeyachtclub.au/event/development-squad-33/
CATEGORIES:Development Squad,Sailing School
END:VEVENT
BEGIN:VEVENT
DTSTART;TZID=Australia/Melbourne:20260301T123000
DTEND;TZID=Australia/Melbourne:20260301T160000
DTSTAMP:20260422T082248
CREATED:20251008T004218Z
LAST-MODIFIED:20251008T004218Z
UID:791-1772368200-1772380800@ryeyachtclub.au
SUMMARY:Development Squad Racing
DESCRIPTION:
URL:https://ryeyachtclub.au/event/development-squad-racing-4/
CATEGORIES:Development Squad,Notice of Race 2025-2026,Sailing School
END:VEVENT
BEGIN:VEVENT
DTSTART;TZID=Australia/Melbourne:20260307T090000
DTEND;TZID=Australia/Melbourne:20260307T150000
DTSTAMP:20260422T082248
CREATED:20251008T010117Z
LAST-MODIFIED:20251008T010117Z
UID:822-1772874000-1772895600@ryeyachtclub.au
SUMMARY:Adult Start Sailing 1 & 2 - Course 3
DESCRIPTION:
URL:https://ryeyachtclub.au/event/adult-start-sailing-1-2-course-3-2/
CATEGORIES:Adult Sailing,Sailing School
END:VEVENT
BEGIN:VEVENT
DTSTART;TZID=Australia/Melbourne:20260314T090000
DTEND;TZID=Australia/Melbourne:20260314T113000
DTSTAMP:20260422T082248
CREATED:20251008T000723Z
LAST-MODIFIED:20251008T000723Z
UID:702-1773478800-1773487800@ryeyachtclub.au
SUMMARY:OutThere Sailing
DESCRIPTION:
URL:https://ryeyachtclub.au/event/outthere-sailing-14/
CATEGORIES:OutThere Sailing,Sailing School
END:VEVENT
BEGIN:VEVENT
DTSTART;TZID=Australia/Melbourne:20260314T090000
DTEND;TZID=Australia/Melbourne:20260314T150000
DTSTAMP:20260422T082248
CREATED:20251008T010149Z
LAST-MODIFIED:20251008T010149Z
UID:824-1773478800-1773500400@ryeyachtclub.au
SUMMARY:Adult Start Sailing 1 & 2 - Course 3
DESCRIPTION:
URL:https://ryeyachtclub.au/event/adult-start-sailing-1-2-course-3-3/
CATEGORIES:Adult Sailing,Sailing School
END:VEVENT
BEGIN:VEVENT
DTSTART;TZID=Australia/Melbourne:20260314T123000
DTEND;TZID=Australia/Melbourne:20260314T150000
DTSTAMP:20260422T082248
CREATED:20251008T003256Z
LAST-MODIFIED:20251008T003256Z
UID:767-1773491400-1773500400@ryeyachtclub.au
SUMMARY:Development Squad
DESCRIPTION:
URL:https://ryeyachtclub.au/event/development-squad-30/
CATEGORIES:Development Squad,Sailing School
END:VEVENT
BEGIN:VEVENT
DTSTART;TZID=Australia/Melbourne:20260314T153000
DTEND;TZID=Australia/Melbourne:20260314T173000
DTSTAMP:20260422T082248
CREATED:20251008T011307Z
LAST-MODIFIED:20251008T011307Z
UID:860-1773502200-1773509400@ryeyachtclub.au
SUMMARY:Adult Coaching
DESCRIPTION:
URL:https://ryeyachtclub.au/event/adult-coaching-14/
CATEGORIES:Adult Coaching,Sailing School
END:VEVENT
BEGIN:VEVENT
DTSTART;TZID=Australia/Melbourne:20260315T090000
DTEND;TZID=Australia/Melbourne:20260315T113000
DTSTAMP:20260422T082248
CREATED:20251007T235440Z
LAST-MODIFIED:20251007T235440Z
UID:670-1773565200-1773574200@ryeyachtclub.au
SUMMARY:Tackers Course 2
DESCRIPTION:
URL:https://ryeyachtclub.au/event/tackers-course-2-6/
CATEGORIES:Sailing School,Tackers
END:VEVENT
BEGIN:VEVENT
DTSTART;TZID=Australia/Melbourne:20260315T090000
DTEND;TZID=Australia/Melbourne:20260315T113000
DTSTAMP:20260422T082248
CREATED:20251008T003505Z
LAST-MODIFIED:20251008T003505Z
UID:775-1773565200-1773574200@ryeyachtclub.au
SUMMARY:Development Squad
DESCRIPTION:
URL:https://ryeyachtclub.au/event/development-squad-34/
CATEGORIES:Development Squad,Sailing School
END:VEVENT
BEGIN:VEVENT
DTSTART;TZID=Australia/Melbourne:20260321T090000
DTEND;TZID=Australia/Melbourne:20260321T113000
DTSTAMP:20260422T082248
CREATED:20251008T000755Z
LAST-MODIFIED:20251008T000755Z
UID:704-1774083600-1774092600@ryeyachtclub.au
SUMMARY:OutThere Sailing
DESCRIPTION:
URL:https://ryeyachtclub.au/event/outthere-sailing-15/
CATEGORIES:OutThere Sailing,Sailing School
END:VEVENT
BEGIN:VEVENT
DTSTART;TZID=Australia/Melbourne:20260321T090000
DTEND;TZID=Australia/Melbourne:20260321T150000
DTSTAMP:20260422T082248
CREATED:20251008T010239Z
LAST-MODIFIED:20251008T010239Z
UID:826-1774083600-1774105200@ryeyachtclub.au
SUMMARY:Adult Start Sailing 1 & 2 - Course 3
DESCRIPTION:
URL:https://ryeyachtclub.au/event/adult-start-sailing-1-2-course-3-4/
CATEGORIES:Adult Sailing,Sailing School
END:VEVENT
BEGIN:VEVENT
DTSTART;TZID=Australia/Melbourne:20260321T123000
DTEND;TZID=Australia/Melbourne:20260321T150000
DTSTAMP:20260422T082248
CREATED:20251008T003332Z
LAST-MODIFIED:20251008T003332Z
UID:769-1774096200-1774105200@ryeyachtclub.au
SUMMARY:Development Squad
DESCRIPTION:
URL:https://ryeyachtclub.au/event/development-squad-31/
CATEGORIES:Development Squad,Sailing School
END:VEVENT
BEGIN:VEVENT
DTSTART;TZID=Australia/Melbourne:20260321T153000
DTEND;TZID=Australia/Melbourne:20260321T173000
DTSTAMP:20260422T082248
CREATED:20251008T011334Z
LAST-MODIFIED:20251008T011334Z
UID:862-1774107000-1774114200@ryeyachtclub.au
SUMMARY:Adult Coaching
DESCRIPTION:
URL:https://ryeyachtclub.au/event/adult-coaching-15/
CATEGORIES:Adult Coaching,Sailing School
END:VEVENT
BEGIN:VEVENT
DTSTART;TZID=Australia/Melbourne:20260322T090000
DTEND;TZID=Australia/Melbourne:20260322T113000
DTSTAMP:20260422T082248
CREATED:20251007T235506Z
LAST-MODIFIED:20251007T235519Z
UID:672-1774170000-1774179000@ryeyachtclub.au
SUMMARY:Tackers Course 2
DESCRIPTION:
URL:https://ryeyachtclub.au/event/tackers-course-2-7/
CATEGORIES:Sailing School,Tackers
END:VEVENT
BEGIN:VEVENT
DTSTART;TZID=Australia/Melbourne:20260322T090000
DTEND;TZID=Australia/Melbourne:20260322T113000
DTSTAMP:20260422T082248
CREATED:20251008T003535Z
LAST-MODIFIED:20251008T003535Z
UID:777-1774170000-1774179000@ryeyachtclub.au
SUMMARY:Development Squad
DESCRIPTION:
URL:https://ryeyachtclub.au/event/development-squad-35/
CATEGORIES:Development Squad,Sailing School
END:VEVENT
BEGIN:VEVENT
DTSTART;TZID=Australia/Melbourne:20260328T090000
DTEND;TZID=Australia/Melbourne:20260328T113000
DTSTAMP:20260422T082248
CREATED:20251008T000834Z
LAST-MODIFIED:20251008T000834Z
UID:706-1774688400-1774697400@ryeyachtclub.au
SUMMARY:OutThere Sailing
DESCRIPTION:
URL:https://ryeyachtclub.au/event/outthere-sailing-16/
CATEGORIES:OutThere Sailing,Sailing School
END:VEVENT
BEGIN:VEVENT
DTSTART;TZID=Australia/Melbourne:20260328T090000
DTEND;TZID=Australia/Melbourne:20260328T150000
DTSTAMP:20260422T082248
CREATED:20251008T010307Z
LAST-MODIFIED:20251008T010307Z
UID:828-1774688400-1774710000@ryeyachtclub.au
SUMMARY:Adult Start Sailing 1 & 2 - Course 3
DESCRIPTION:
URL:https://ryeyachtclub.au/event/adult-start-sailing-1-2-course-3-5/
CATEGORIES:Adult Sailing,Sailing School
END:VEVENT
BEGIN:VEVENT
DTSTART;TZID=Australia/Melbourne:20260328T123000
DTEND;TZID=Australia/Melbourne:20260328T150000
DTSTAMP:20260422T082248
CREATED:20251008T003410Z
LAST-MODIFIED:20251008T003410Z
UID:771-1774701000-1774710000@ryeyachtclub.au
SUMMARY:Development Squad
DESCRIPTION:
URL:https://ryeyachtclub.au/event/development-squad-32/
CATEGORIES:Development Squad,Sailing School
END:VEVENT
BEGIN:VEVENT
DTSTART;TZID=Australia/Melbourne:20260328T153000
DTEND;TZID=Australia/Melbourne:20260328T173000
DTSTAMP:20260422T082248
CREATED:20251008T011402Z
LAST-MODIFIED:20251008T011402Z
UID:864-1774711800-1774719000@ryeyachtclub.au
SUMMARY:Adult Coaching
DESCRIPTION:
URL:https://ryeyachtclub.au/event/adult-coaching-16/
CATEGORIES:Adult Coaching,Sailing School
END:VEVENT
BEGIN:VEVENT
DTSTART;TZID=Australia/Melbourne:20260329T090000
DTEND;TZID=Australia/Melbourne:20260329T113000
DTSTAMP:20260422T082248
CREATED:20251007T235550Z
LAST-MODIFIED:20251007T235550Z
UID:674-1774774800-1774783800@ryeyachtclub.au
SUMMARY:Tackers Course 2
DESCRIPTION:
URL:https://ryeyachtclub.au/event/tackers-course-2-8/
CATEGORIES:Sailing School,Tackers
END:VEVENT
END:VCALENDAR