BEGIN:VCALENDAR
VERSION:2.0
PRODID:-//Rye Yacht Club - ECPv6.15.11//NONSGML v1.0//EN
CALSCALE:GREGORIAN
METHOD:PUBLISH
X-ORIGINAL-URL:https://ryeyachtclub.au
X-WR-CALDESC:Events for Rye Yacht Club
REFRESH-INTERVAL;VALUE=DURATION:PT1H
X-Robots-Tag:noindex
X-PUBLISHED-TTL:PT1H
BEGIN:VTIMEZONE
TZID:Australia/Melbourne
BEGIN:STANDARD
TZOFFSETFROM:+1100
TZOFFSETTO:+1000
TZNAME:AEST
DTSTART:20240406T160000
END:STANDARD
BEGIN:DAYLIGHT
TZOFFSETFROM:+1000
TZOFFSETTO:+1100
TZNAME:AEDT
DTSTART:20241005T160000
END:DAYLIGHT
BEGIN:STANDARD
TZOFFSETFROM:+1100
TZOFFSETTO:+1000
TZNAME:AEST
DTSTART:20250405T160000
END:STANDARD
BEGIN:DAYLIGHT
TZOFFSETFROM:+1000
TZOFFSETTO:+1100
TZNAME:AEDT
DTSTART:20251004T160000
END:DAYLIGHT
BEGIN:STANDARD
TZOFFSETFROM:+1100
TZOFFSETTO:+1000
TZNAME:AEST
DTSTART:20260404T160000
END:STANDARD
BEGIN:DAYLIGHT
TZOFFSETFROM:+1000
TZOFFSETTO:+1100
TZNAME:AEDT
DTSTART:20261003T160000
END:DAYLIGHT
BEGIN:STANDARD
TZOFFSETFROM:+1100
TZOFFSETTO:+1000
TZNAME:AEST
DTSTART:20270403T160000
END:STANDARD
BEGIN:DAYLIGHT
TZOFFSETFROM:+1000
TZOFFSETTO:+1100
TZNAME:AEDT
DTSTART:20271002T160000
END:DAYLIGHT
END:VTIMEZONE
BEGIN:VEVENT
DTSTART;TZID=Australia/Melbourne:20251116T090000
DTEND;TZID=Australia/Melbourne:20251116T113000
DTSTAMP:20260424T084701
CREATED:20251007T234620Z
LAST-MODIFIED:20251007T234620Z
UID:647-1763283600-1763292600@ryeyachtclub.au
SUMMARY:Tackers Course 1
DESCRIPTION:
URL:https://ryeyachtclub.au/event/tackers-course-1-3/
CATEGORIES:Sailing School,Tackers
END:VEVENT
BEGIN:VEVENT
DTSTART;TZID=Australia/Melbourne:20251116T090000
DTEND;TZID=Australia/Melbourne:20251116T113000
DTSTAMP:20260424T084701
CREATED:20251008T001709Z
LAST-MODIFIED:20251008T001709Z
UID:728-1763283600-1763292600@ryeyachtclub.au
SUMMARY:Development Squad
DESCRIPTION:
URL:https://ryeyachtclub.au/event/development-squad-11/
CATEGORIES:Development Squad,Sailing School
END:VEVENT
BEGIN:VEVENT
DTSTART;TZID=Australia/Melbourne:20251129T090000
DTEND;TZID=Australia/Melbourne:20251129T113000
DTSTAMP:20260424T084701
CREATED:20251008T000111Z
LAST-MODIFIED:20251008T000111Z
UID:682-1764406800-1764415800@ryeyachtclub.au
SUMMARY:OutThere Sailing
DESCRIPTION:
URL:https://ryeyachtclub.au/event/outthere-sailing-4/
CATEGORIES:OutThere Sailing,Sailing School
END:VEVENT
BEGIN:VEVENT
DTSTART;TZID=Australia/Melbourne:20251129T090000
DTEND;TZID=Australia/Melbourne:20251129T150000
DTSTAMP:20260424T084701
CREATED:20251008T005432Z
LAST-MODIFIED:20251008T005432Z
UID:801-1764406800-1764428400@ryeyachtclub.au
SUMMARY:Adult Start Sailing 1 & 2 - Course 1
DESCRIPTION:
URL:https://ryeyachtclub.au/event/adult-start-sailing-1-2-course-1-4/
CATEGORIES:Adult Sailing,Sailing School
END:VEVENT
BEGIN:VEVENT
DTSTART;TZID=Australia/Melbourne:20251129T123000
DTEND;TZID=Australia/Melbourne:20251129T150000
DTSTAMP:20260424T084701
CREATED:20251008T001517Z
LAST-MODIFIED:20251008T001517Z
UID:722-1764419400-1764428400@ryeyachtclub.au
SUMMARY:Development Squad
DESCRIPTION:
URL:https://ryeyachtclub.au/event/development-squad-8/
CATEGORIES:Development Squad,Sailing School
END:VEVENT
BEGIN:VEVENT
DTSTART;TZID=Australia/Melbourne:20251129T153000
DTEND;TZID=Australia/Melbourne:20251129T173000
DTSTAMP:20260424T084701
CREATED:20251008T010740Z
LAST-MODIFIED:20251008T010740Z
UID:840-1764430200-1764437400@ryeyachtclub.au
SUMMARY:Adult Coaching
DESCRIPTION:
URL:https://ryeyachtclub.au/event/adult-coaching-4/
CATEGORIES:Adult Coaching,Sailing School
END:VEVENT
BEGIN:VEVENT
DTSTART;TZID=Australia/Melbourne:20251130T090000
DTEND;TZID=Australia/Melbourne:20251130T113000
DTSTAMP:20260424T084701
CREATED:20251007T234712Z
LAST-MODIFIED:20251007T234712Z
UID:649-1764493200-1764502200@ryeyachtclub.au
SUMMARY:Tackers Course 1
DESCRIPTION:
URL:https://ryeyachtclub.au/event/tackers-course-1-4/
CATEGORIES:Sailing School,Tackers
END:VEVENT
BEGIN:VEVENT
DTSTART;TZID=Australia/Melbourne:20251130T090000
DTEND;TZID=Australia/Melbourne:20251130T113000
DTSTAMP:20260424T084701
CREATED:20251008T001740Z
LAST-MODIFIED:20251008T001740Z
UID:730-1764493200-1764502200@ryeyachtclub.au
SUMMARY:Development Squad
DESCRIPTION:
URL:https://ryeyachtclub.au/event/development-squad-12/
CATEGORIES:Development Squad,Sailing School
END:VEVENT
BEGIN:VEVENT
DTSTART;TZID=Australia/Melbourne:20251206T090000
DTEND;TZID=Australia/Melbourne:20251206T113000
DTSTAMP:20260424T084701
CREATED:20251008T000143Z
LAST-MODIFIED:20251008T000143Z
UID:684-1765011600-1765020600@ryeyachtclub.au
SUMMARY:OutThere Sailing
DESCRIPTION:
URL:https://ryeyachtclub.au/event/outthere-sailing-5/
CATEGORIES:OutThere Sailing,Sailing School
END:VEVENT
BEGIN:VEVENT
DTSTART;TZID=Australia/Melbourne:20251206T090000
DTEND;TZID=Australia/Melbourne:20251206T150000
DTSTAMP:20260424T084701
CREATED:20251008T005529Z
LAST-MODIFIED:20251008T005529Z
UID:803-1765011600-1765033200@ryeyachtclub.au
SUMMARY:Adult Start Sailing 1 & 2 - Course 1
DESCRIPTION:
URL:https://ryeyachtclub.au/event/adult-start-sailing-1-2-course-1-5/
CATEGORIES:Adult Sailing,Sailing School
END:VEVENT
BEGIN:VEVENT
DTSTART;TZID=Australia/Melbourne:20251206T123000
DTEND;TZID=Australia/Melbourne:20251206T150000
DTSTAMP:20260424T084701
CREATED:20251008T001815Z
LAST-MODIFIED:20251008T001822Z
UID:732-1765024200-1765033200@ryeyachtclub.au
SUMMARY:Development Squad
DESCRIPTION:
URL:https://ryeyachtclub.au/event/development-squad-13/
CATEGORIES:Development Squad,Sailing School
END:VEVENT
BEGIN:VEVENT
DTSTART;TZID=Australia/Melbourne:20251206T153000
DTEND;TZID=Australia/Melbourne:20251206T173000
DTSTAMP:20260424T084701
CREATED:20251008T010812Z
LAST-MODIFIED:20251008T010812Z
UID:842-1765035000-1765042200@ryeyachtclub.au
SUMMARY:Adult Coaching
DESCRIPTION:
URL:https://ryeyachtclub.au/event/adult-coaching-5/
CATEGORIES:Adult Coaching,Sailing School
END:VEVENT
BEGIN:VEVENT
DTSTART;TZID=Australia/Melbourne:20251207T090000
DTEND;TZID=Australia/Melbourne:20251207T113000
DTSTAMP:20260424T084701
CREATED:20251007T234813Z
LAST-MODIFIED:20251007T234813Z
UID:651-1765098000-1765107000@ryeyachtclub.au
SUMMARY:Tackers Course 1
DESCRIPTION:
URL:https://ryeyachtclub.au/event/tackers-course-1-5/
CATEGORIES:Sailing School,Tackers
END:VEVENT
BEGIN:VEVENT
DTSTART;TZID=Australia/Melbourne:20251207T090000
DTEND;TZID=Australia/Melbourne:20251207T113000
DTSTAMP:20260424T084701
CREATED:20251008T001921Z
LAST-MODIFIED:20251008T001921Z
UID:736-1765098000-1765107000@ryeyachtclub.au
SUMMARY:Development Squad
DESCRIPTION:
URL:https://ryeyachtclub.au/event/development-squad-15/
CATEGORIES:Development Squad,Sailing School
END:VEVENT
BEGIN:VEVENT
DTSTART;TZID=Australia/Melbourne:20251207T123000
DTEND;TZID=Australia/Melbourne:20251207T160000
DTSTAMP:20260424T084701
CREATED:20251008T003836Z
LAST-MODIFIED:20251008T004103Z
UID:785-1765110600-1765123200@ryeyachtclub.au
SUMMARY:Development Squad Racing
DESCRIPTION:
URL:https://ryeyachtclub.au/event/development-squad-racing/
CATEGORIES:Development Squad,Notice of Race 2025-2026,Sailing School
END:VEVENT
BEGIN:VEVENT
DTSTART;TZID=Australia/Melbourne:20251213T090000
DTEND;TZID=Australia/Melbourne:20251213T113000
DTSTAMP:20260424T084701
CREATED:20251008T000228Z
LAST-MODIFIED:20251008T000228Z
UID:686-1765616400-1765625400@ryeyachtclub.au
SUMMARY:OutThere Sailing
DESCRIPTION:
URL:https://ryeyachtclub.au/event/outthere-sailing-6/
CATEGORIES:OutThere Sailing,Sailing School
END:VEVENT
BEGIN:VEVENT
DTSTART;TZID=Australia/Melbourne:20251213T090000
DTEND;TZID=Australia/Melbourne:20251213T150000
DTSTAMP:20260424T084701
CREATED:20251008T005603Z
LAST-MODIFIED:20251008T005603Z
UID:806-1765616400-1765638000@ryeyachtclub.au
SUMMARY:Adult Start Sailing 1 & 2 - Course 1
DESCRIPTION:Reserve Day
URL:https://ryeyachtclub.au/event/adult-start-sailing-1-2-course-1-6/
CATEGORIES:Adult Sailing,Sailing School
END:VEVENT
BEGIN:VEVENT
DTSTART;TZID=Australia/Melbourne:20251213T123000
DTEND;TZID=Australia/Melbourne:20251213T150000
DTSTAMP:20260424T084701
CREATED:20251008T001852Z
LAST-MODIFIED:20251008T001852Z
UID:734-1765629000-1765638000@ryeyachtclub.au
SUMMARY:Development Squad
DESCRIPTION:
URL:https://ryeyachtclub.au/event/development-squad-14/
CATEGORIES:Development Squad,Sailing School
END:VEVENT
BEGIN:VEVENT
DTSTART;TZID=Australia/Melbourne:20251213T153000
DTEND;TZID=Australia/Melbourne:20251213T173000
DTSTAMP:20260424T084701
CREATED:20251008T010836Z
LAST-MODIFIED:20251008T010836Z
UID:844-1765639800-1765647000@ryeyachtclub.au
SUMMARY:Adult Coaching
DESCRIPTION:
URL:https://ryeyachtclub.au/event/adult-coaching-6/
CATEGORIES:Adult Coaching,Sailing School
END:VEVENT
BEGIN:VEVENT
DTSTART;TZID=Australia/Melbourne:20251214T090000
DTEND;TZID=Australia/Melbourne:20251214T113000
DTSTAMP:20260424T084701
CREATED:20251007T234850Z
LAST-MODIFIED:20251007T234850Z
UID:653-1765702800-1765711800@ryeyachtclub.au
SUMMARY:Tackers Course 1
DESCRIPTION:
URL:https://ryeyachtclub.au/event/tackers-course-1-6/
CATEGORIES:Sailing School,Tackers
END:VEVENT
BEGIN:VEVENT
DTSTART;TZID=Australia/Melbourne:20251214T090000
DTEND;TZID=Australia/Melbourne:20251214T113000
DTSTAMP:20260424T084701
CREATED:20251008T001948Z
LAST-MODIFIED:20251008T001948Z
UID:738-1765702800-1765711800@ryeyachtclub.au
SUMMARY:Development Squad
DESCRIPTION:
URL:https://ryeyachtclub.au/event/development-squad-16/
CATEGORIES:Development Squad,Sailing School
END:VEVENT
BEGIN:VEVENT
DTSTART;TZID=Australia/Melbourne:20260110T090000
DTEND;TZID=Australia/Melbourne:20260110T113000
DTSTAMP:20260424T084701
CREATED:20251008T000301Z
LAST-MODIFIED:20251008T000301Z
UID:688-1768035600-1768044600@ryeyachtclub.au
SUMMARY:OutThere Sailing
DESCRIPTION:
URL:https://ryeyachtclub.au/event/outthere-sailing-7/
CATEGORIES:OutThere Sailing,Sailing School
END:VEVENT
BEGIN:VEVENT
DTSTART;TZID=Australia/Melbourne:20260110T090000
DTEND;TZID=Australia/Melbourne:20260110T150000
DTSTAMP:20260424T084701
CREATED:20251008T005654Z
LAST-MODIFIED:20251008T005654Z
UID:808-1768035600-1768057200@ryeyachtclub.au
SUMMARY:Adult Start Sailing 1 & 2 - Course 2
DESCRIPTION:
URL:https://ryeyachtclub.au/event/adult-start-sailing-1-2-course-2/
CATEGORIES:Adult Sailing,Sailing School
END:VEVENT
BEGIN:VEVENT
DTSTART;TZID=Australia/Melbourne:20260110T123000
DTEND;TZID=Australia/Melbourne:20260110T150000
DTSTAMP:20260424T084701
CREATED:20251008T002359Z
LAST-MODIFIED:20251008T002359Z
UID:740-1768048200-1768057200@ryeyachtclub.au
SUMMARY:Development Squad
DESCRIPTION:
URL:https://ryeyachtclub.au/event/development-squad-17/
CATEGORIES:Development Squad,Sailing School
END:VEVENT
BEGIN:VEVENT
DTSTART;TZID=Australia/Melbourne:20260110T153000
DTEND;TZID=Australia/Melbourne:20260110T173000
DTSTAMP:20260424T084701
CREATED:20251008T010908Z
LAST-MODIFIED:20251008T010908Z
UID:846-1768059000-1768066200@ryeyachtclub.au
SUMMARY:Adult Coaching
DESCRIPTION:
URL:https://ryeyachtclub.au/event/adult-coaching-7/
CATEGORIES:Adult Coaching,Sailing School
END:VEVENT
BEGIN:VEVENT
DTSTART;TZID=Australia/Melbourne:20260111T090000
DTEND;TZID=Australia/Melbourne:20260111T113000
DTSTAMP:20260424T084701
CREATED:20251007T234924Z
LAST-MODIFIED:20251007T234924Z
UID:655-1768122000-1768131000@ryeyachtclub.au
SUMMARY:Tackers Course 1
DESCRIPTION:
URL:https://ryeyachtclub.au/event/tackers-course-1-7/
CATEGORIES:Sailing School,Tackers
END:VEVENT
BEGIN:VEVENT
DTSTART;TZID=Australia/Melbourne:20260111T090000
DTEND;TZID=Australia/Melbourne:20260111T113000
DTSTAMP:20260424T084701
CREATED:20251008T002630Z
LAST-MODIFIED:20251008T002630Z
UID:746-1768122000-1768131000@ryeyachtclub.au
SUMMARY:Development Squad
DESCRIPTION:
URL:https://ryeyachtclub.au/event/development-squad-20/
CATEGORIES:Development Squad,Sailing School
END:VEVENT
BEGIN:VEVENT
DTSTART;TZID=Australia/Melbourne:20260111T123000
DTEND;TZID=Australia/Melbourne:20260111T160000
DTSTAMP:20260424T084701
CREATED:20251008T004022Z
LAST-MODIFIED:20251008T004022Z
UID:787-1768134600-1768147200@ryeyachtclub.au
SUMMARY:Development Squad Racing
DESCRIPTION:
URL:https://ryeyachtclub.au/event/development-squad-racing-2/
CATEGORIES:Development Squad,Notice of Race 2025-2026,Sailing School
END:VEVENT
BEGIN:VEVENT
DTSTART;TZID=Australia/Melbourne:20260117T090000
DTEND;TZID=Australia/Melbourne:20260117T113000
DTSTAMP:20260424T084701
CREATED:20251008T000333Z
LAST-MODIFIED:20251008T000333Z
UID:690-1768640400-1768649400@ryeyachtclub.au
SUMMARY:OutThere Sailing
DESCRIPTION:
URL:https://ryeyachtclub.au/event/outthere-sailing-8/
CATEGORIES:OutThere Sailing,Sailing School
END:VEVENT
BEGIN:VEVENT
DTSTART;TZID=Australia/Melbourne:20260117T090000
DTEND;TZID=Australia/Melbourne:20260117T150000
DTSTAMP:20260424T084701
CREATED:20251008T005756Z
LAST-MODIFIED:20251008T005756Z
UID:810-1768640400-1768662000@ryeyachtclub.au
SUMMARY:Adult Start Sailing 1 & 2 - Course 2
DESCRIPTION:
URL:https://ryeyachtclub.au/event/adult-start-sailing-1-2-course-2-2/
CATEGORIES:Adult Sailing,Sailing School
END:VEVENT
END:VCALENDAR