BEGIN:VCALENDAR
VERSION:2.0
PRODID:-//Rye Yacht Club - ECPv6.15.11//NONSGML v1.0//EN
CALSCALE:GREGORIAN
METHOD:PUBLISH
X-ORIGINAL-URL:https://ryeyachtclub.au
X-WR-CALDESC:Events for Rye Yacht Club
REFRESH-INTERVAL;VALUE=DURATION:PT1H
X-Robots-Tag:noindex
X-PUBLISHED-TTL:PT1H
BEGIN:VTIMEZONE
TZID:Australia/Melbourne
BEGIN:STANDARD
TZOFFSETFROM:+1100
TZOFFSETTO:+1000
TZNAME:AEST
DTSTART:20250405T160000
END:STANDARD
BEGIN:DAYLIGHT
TZOFFSETFROM:+1000
TZOFFSETTO:+1100
TZNAME:AEDT
DTSTART:20251004T160000
END:DAYLIGHT
BEGIN:STANDARD
TZOFFSETFROM:+1100
TZOFFSETTO:+1000
TZNAME:AEST
DTSTART:20260404T160000
END:STANDARD
BEGIN:DAYLIGHT
TZOFFSETFROM:+1000
TZOFFSETTO:+1100
TZNAME:AEDT
DTSTART:20261003T160000
END:DAYLIGHT
BEGIN:STANDARD
TZOFFSETFROM:+1100
TZOFFSETTO:+1000
TZNAME:AEST
DTSTART:20270403T160000
END:STANDARD
BEGIN:DAYLIGHT
TZOFFSETFROM:+1000
TZOFFSETTO:+1100
TZNAME:AEDT
DTSTART:20271002T160000
END:DAYLIGHT
END:VTIMEZONE
BEGIN:VEVENT
DTSTART;TZID=Australia/Melbourne:20260314T090000
DTEND;TZID=Australia/Melbourne:20260314T113000
DTSTAMP:20260422T024712
CREATED:20251008T000723Z
LAST-MODIFIED:20251008T000723Z
UID:702-1773478800-1773487800@ryeyachtclub.au
SUMMARY:OutThere Sailing
DESCRIPTION:
URL:https://ryeyachtclub.au/event/outthere-sailing-14/
CATEGORIES:OutThere Sailing,Sailing School
END:VEVENT
BEGIN:VEVENT
DTSTART;TZID=Australia/Melbourne:20260314T090000
DTEND;TZID=Australia/Melbourne:20260314T150000
DTSTAMP:20260422T024712
CREATED:20251008T010149Z
LAST-MODIFIED:20251008T010149Z
UID:824-1773478800-1773500400@ryeyachtclub.au
SUMMARY:Adult Start Sailing 1 & 2 - Course 3
DESCRIPTION:
URL:https://ryeyachtclub.au/event/adult-start-sailing-1-2-course-3-3/
CATEGORIES:Adult Sailing,Sailing School
END:VEVENT
BEGIN:VEVENT
DTSTART;TZID=Australia/Melbourne:20260314T123000
DTEND;TZID=Australia/Melbourne:20260314T150000
DTSTAMP:20260422T024712
CREATED:20251008T003256Z
LAST-MODIFIED:20251008T003256Z
UID:767-1773491400-1773500400@ryeyachtclub.au
SUMMARY:Development Squad
DESCRIPTION:
URL:https://ryeyachtclub.au/event/development-squad-30/
CATEGORIES:Development Squad,Sailing School
END:VEVENT
BEGIN:VEVENT
DTSTART;TZID=Australia/Melbourne:20260314T153000
DTEND;TZID=Australia/Melbourne:20260314T173000
DTSTAMP:20260422T024712
CREATED:20251008T011307Z
LAST-MODIFIED:20251008T011307Z
UID:860-1773502200-1773509400@ryeyachtclub.au
SUMMARY:Adult Coaching
DESCRIPTION:
URL:https://ryeyachtclub.au/event/adult-coaching-14/
CATEGORIES:Adult Coaching,Sailing School
END:VEVENT
END:VCALENDAR