BEGIN:VCALENDAR
VERSION:2.0
PRODID:-//Rye Yacht Club - ECPv6.15.11//NONSGML v1.0//EN
CALSCALE:GREGORIAN
METHOD:PUBLISH
X-ORIGINAL-URL:https://ryeyachtclub.au
X-WR-CALDESC:Events for Rye Yacht Club
REFRESH-INTERVAL;VALUE=DURATION:PT1H
X-Robots-Tag:noindex
X-PUBLISHED-TTL:PT1H
BEGIN:VTIMEZONE
TZID:Australia/Melbourne
BEGIN:STANDARD
TZOFFSETFROM:+1100
TZOFFSETTO:+1000
TZNAME:AEST
DTSTART:20250405T160000
END:STANDARD
BEGIN:DAYLIGHT
TZOFFSETFROM:+1000
TZOFFSETTO:+1100
TZNAME:AEDT
DTSTART:20251004T160000
END:DAYLIGHT
BEGIN:STANDARD
TZOFFSETFROM:+1100
TZOFFSETTO:+1000
TZNAME:AEST
DTSTART:20260404T160000
END:STANDARD
BEGIN:DAYLIGHT
TZOFFSETFROM:+1000
TZOFFSETTO:+1100
TZNAME:AEDT
DTSTART:20261003T160000
END:DAYLIGHT
BEGIN:STANDARD
TZOFFSETFROM:+1100
TZOFFSETTO:+1000
TZNAME:AEST
DTSTART:20270403T160000
END:STANDARD
BEGIN:DAYLIGHT
TZOFFSETFROM:+1000
TZOFFSETTO:+1100
TZNAME:AEDT
DTSTART:20271002T160000
END:DAYLIGHT
END:VTIMEZONE
BEGIN:VEVENT
DTSTART;TZID=Australia/Melbourne:20260131T090000
DTEND;TZID=Australia/Melbourne:20260131T113000
DTSTAMP:20260422T043954
CREATED:20251008T000423Z
LAST-MODIFIED:20251008T000423Z
UID:692-1769850000-1769859000@ryeyachtclub.au
SUMMARY:OutThere Sailing
DESCRIPTION:*A new course begins. For scholarship holders this course is included.
URL:https://ryeyachtclub.au/event/outthere-sailing-9/
CATEGORIES:OutThere Sailing,Sailing School
END:VEVENT
BEGIN:VEVENT
DTSTART;TZID=Australia/Melbourne:20260131T090000
DTEND;TZID=Australia/Melbourne:20260131T150000
DTSTAMP:20260422T043954
CREATED:20251008T005826Z
LAST-MODIFIED:20251008T005826Z
UID:812-1769850000-1769871600@ryeyachtclub.au
SUMMARY:Adult Start Sailing 1 & 2 - Course 2
DESCRIPTION:
URL:https://ryeyachtclub.au/event/adult-start-sailing-1-2-course-2-3/
CATEGORIES:Adult Sailing,Sailing School
END:VEVENT
BEGIN:VEVENT
DTSTART;TZID=Australia/Melbourne:20260131T123000
DTEND;TZID=Australia/Melbourne:20260131T150000
DTSTAMP:20260422T043954
CREATED:20251008T002547Z
LAST-MODIFIED:20251008T002547Z
UID:744-1769862600-1769871600@ryeyachtclub.au
SUMMARY:Development Squad
DESCRIPTION:
URL:https://ryeyachtclub.au/event/development-squad-19/
CATEGORIES:Development Squad,Sailing School
END:VEVENT
BEGIN:VEVENT
DTSTART;TZID=Australia/Melbourne:20260131T153000
DTEND;TZID=Australia/Melbourne:20260131T173000
DTSTAMP:20260422T043954
CREATED:20251008T011016Z
LAST-MODIFIED:20251008T011016Z
UID:850-1769873400-1769880600@ryeyachtclub.au
SUMMARY:Adult Coaching
DESCRIPTION:
URL:https://ryeyachtclub.au/event/adult-coaching-9/
CATEGORIES:Adult Coaching,Sailing School
END:VEVENT
END:VCALENDAR