BEGIN:VCALENDAR
VERSION:2.0
PRODID:-//Rye Yacht Club - ECPv6.15.11//NONSGML v1.0//EN
CALSCALE:GREGORIAN
METHOD:PUBLISH
X-WR-CALNAME:Rye Yacht Club
X-ORIGINAL-URL:https://ryeyachtclub.au
X-WR-CALDESC:Events for Rye Yacht Club
REFRESH-INTERVAL;VALUE=DURATION:PT1H
X-Robots-Tag:noindex
X-PUBLISHED-TTL:PT1H
BEGIN:VTIMEZONE
TZID:Australia/Melbourne
BEGIN:STANDARD
TZOFFSETFROM:+1100
TZOFFSETTO:+1000
TZNAME:AEST
DTSTART:20250405T160000
END:STANDARD
BEGIN:DAYLIGHT
TZOFFSETFROM:+1000
TZOFFSETTO:+1100
TZNAME:AEDT
DTSTART:20251004T160000
END:DAYLIGHT
BEGIN:STANDARD
TZOFFSETFROM:+1100
TZOFFSETTO:+1000
TZNAME:AEST
DTSTART:20260404T160000
END:STANDARD
BEGIN:DAYLIGHT
TZOFFSETFROM:+1000
TZOFFSETTO:+1100
TZNAME:AEDT
DTSTART:20261003T160000
END:DAYLIGHT
BEGIN:STANDARD
TZOFFSETFROM:+1100
TZOFFSETTO:+1000
TZNAME:AEST
DTSTART:20270403T160000
END:STANDARD
BEGIN:DAYLIGHT
TZOFFSETFROM:+1000
TZOFFSETTO:+1100
TZNAME:AEDT
DTSTART:20271002T160000
END:DAYLIGHT
END:VTIMEZONE
BEGIN:VEVENT
DTSTART;TZID=Australia/Melbourne:20260207T090000
DTEND;TZID=Australia/Melbourne:20260207T150000
DTSTAMP:20260422T045940
CREATED:20251008T005858Z
LAST-MODIFIED:20251008T005858Z
UID:814-1770454800-1770476400@ryeyachtclub.au
SUMMARY:Adult Start Sailing 1 & 2 - Course 2
DESCRIPTION:
URL:https://ryeyachtclub.au/event/adult-start-sailing-1-2-course-2-4/
CATEGORIES:Adult Sailing,Sailing School
END:VEVENT
BEGIN:VEVENT
DTSTART;TZID=Australia/Melbourne:20260214T090000
DTEND;TZID=Australia/Melbourne:20260214T150000
DTSTAMP:20260422T045940
CREATED:20251008T005938Z
LAST-MODIFIED:20251008T005938Z
UID:816-1771059600-1771081200@ryeyachtclub.au
SUMMARY:Adult Start Sailing 1 & 2 - Course 2
DESCRIPTION:
URL:https://ryeyachtclub.au/event/adult-start-sailing-1-2-course-2-5/
CATEGORIES:Adult Sailing,Sailing School
END:VEVENT
BEGIN:VEVENT
DTSTART;TZID=Australia/Melbourne:20260221T090000
DTEND;TZID=Australia/Melbourne:20260221T150000
DTSTAMP:20260422T045940
CREATED:20251008T010013Z
LAST-MODIFIED:20251008T010013Z
UID:818-1771664400-1771686000@ryeyachtclub.au
SUMMARY:Adult Start Sailing 1 & 2 - Course 2
DESCRIPTION:Reserve Day
URL:https://ryeyachtclub.au/event/adult-start-sailing-1-2-course-2-6/
CATEGORIES:Adult Sailing,Sailing School
END:VEVENT
BEGIN:VEVENT
DTSTART;TZID=Australia/Melbourne:20260228T090000
DTEND;TZID=Australia/Melbourne:20260228T150000
DTSTAMP:20260422T045940
CREATED:20251008T010051Z
LAST-MODIFIED:20251008T010051Z
UID:820-1772269200-1772290800@ryeyachtclub.au
SUMMARY:Adult Start Sailing 1 & 2 - Course 3
DESCRIPTION:
URL:https://ryeyachtclub.au/event/adult-start-sailing-1-2-course-3/
CATEGORIES:Adult Sailing,Sailing School
END:VEVENT
END:VCALENDAR