BEGIN:VCALENDAR
VERSION:2.0
PRODID:-//Rye Yacht Club - ECPv6.15.11//NONSGML v1.0//EN
CALSCALE:GREGORIAN
METHOD:PUBLISH
X-ORIGINAL-URL:https://ryeyachtclub.au
X-WR-CALDESC:Events for Rye Yacht Club
REFRESH-INTERVAL;VALUE=DURATION:PT1H
X-Robots-Tag:noindex
X-PUBLISHED-TTL:PT1H
BEGIN:VTIMEZONE
TZID:Australia/Melbourne
BEGIN:STANDARD
TZOFFSETFROM:+1100
TZOFFSETTO:+1000
TZNAME:AEST
DTSTART:20240406T160000
END:STANDARD
BEGIN:DAYLIGHT
TZOFFSETFROM:+1000
TZOFFSETTO:+1100
TZNAME:AEDT
DTSTART:20241005T160000
END:DAYLIGHT
BEGIN:STANDARD
TZOFFSETFROM:+1100
TZOFFSETTO:+1000
TZNAME:AEST
DTSTART:20250405T160000
END:STANDARD
BEGIN:DAYLIGHT
TZOFFSETFROM:+1000
TZOFFSETTO:+1100
TZNAME:AEDT
DTSTART:20251004T160000
END:DAYLIGHT
BEGIN:STANDARD
TZOFFSETFROM:+1100
TZOFFSETTO:+1000
TZNAME:AEST
DTSTART:20260404T160000
END:STANDARD
BEGIN:DAYLIGHT
TZOFFSETFROM:+1000
TZOFFSETTO:+1100
TZNAME:AEDT
DTSTART:20261003T160000
END:DAYLIGHT
END:VTIMEZONE
BEGIN:VEVENT
DTSTART;TZID=Australia/Melbourne:20251101T090000
DTEND;TZID=Australia/Melbourne:20251101T113000
DTSTAMP:20260423T232735
CREATED:20251007T235809Z
LAST-MODIFIED:20251007T235842Z
UID:676-1761987600-1761996600@ryeyachtclub.au
SUMMARY:OutThere Sailing
DESCRIPTION:
URL:https://ryeyachtclub.au/event/outthere-sailing/
CATEGORIES:OutThere Sailing,Sailing School
END:VEVENT
BEGIN:VEVENT
DTSTART;TZID=Australia/Melbourne:20251101T090000
DTEND;TZID=Australia/Melbourne:20251101T150000
DTSTAMP:20260423T232735
CREATED:20251008T005137Z
LAST-MODIFIED:20251008T005137Z
UID:795-1761987600-1762009200@ryeyachtclub.au
SUMMARY:Adult Start Sailing 1 & 2 - Course 1
DESCRIPTION:
URL:https://ryeyachtclub.au/event/adult-start-sailing-1-2-course-1/
CATEGORIES:Adult Sailing,Sailing School
END:VEVENT
BEGIN:VEVENT
DTSTART;TZID=Australia/Melbourne:20251101T123000
DTEND;TZID=Australia/Melbourne:20251101T150000
DTSTAMP:20260423T232735
CREATED:20251008T001337Z
LAST-MODIFIED:20251008T001337Z
UID:716-1762000200-1762009200@ryeyachtclub.au
SUMMARY:Development Squad
DESCRIPTION:
URL:https://ryeyachtclub.au/event/development-squad-5/
CATEGORIES:Development Squad,Sailing School
END:VEVENT
BEGIN:VEVENT
DTSTART;TZID=Australia/Melbourne:20251101T153000
DTEND;TZID=Australia/Melbourne:20251101T173000
DTSTAMP:20260423T232735
CREATED:20251008T010608Z
LAST-MODIFIED:20251008T010608Z
UID:834-1762011000-1762018200@ryeyachtclub.au
SUMMARY:Adult Coaching
DESCRIPTION:
URL:https://ryeyachtclub.au/event/adult-coaching/
CATEGORIES:Adult Coaching,Sailing School
END:VEVENT
BEGIN:VEVENT
DTSTART;TZID=Australia/Melbourne:20251102T090000
DTEND;TZID=Australia/Melbourne:20251102T113000
DTSTAMP:20260423T232735
CREATED:20251007T234351Z
LAST-MODIFIED:20251007T234351Z
UID:643-1762074000-1762083000@ryeyachtclub.au
SUMMARY:Tackers Course 1
DESCRIPTION:
URL:https://ryeyachtclub.au/event/tackers-course-1/
CATEGORIES:Sailing School,Tackers
END:VEVENT
BEGIN:VEVENT
DTSTART;TZID=Australia/Melbourne:20251102T090000
DTEND;TZID=Australia/Melbourne:20251102T113000
DTSTAMP:20260423T232735
CREATED:20251008T001551Z
LAST-MODIFIED:20251008T001608Z
UID:724-1762074000-1762083000@ryeyachtclub.au
SUMMARY:Development Squad
DESCRIPTION:
URL:https://ryeyachtclub.au/event/development-squad-9/
CATEGORIES:Development Squad,Sailing School
END:VEVENT
BEGIN:VEVENT
DTSTART;TZID=Australia/Melbourne:20251108T090000
DTEND;TZID=Australia/Melbourne:20251108T113000
DTSTAMP:20260423T232735
CREATED:20251007T235927Z
LAST-MODIFIED:20251007T235927Z
UID:678-1762592400-1762601400@ryeyachtclub.au
SUMMARY:OutThere Sailing
DESCRIPTION:
URL:https://ryeyachtclub.au/event/outthere-sailing-2/
CATEGORIES:OutThere Sailing,Sailing School
END:VEVENT
BEGIN:VEVENT
DTSTART;TZID=Australia/Melbourne:20251108T090000
DTEND;TZID=Australia/Melbourne:20251108T150000
DTSTAMP:20260423T232735
CREATED:20251008T005335Z
LAST-MODIFIED:20251008T005335Z
UID:797-1762592400-1762614000@ryeyachtclub.au
SUMMARY:Adult Start Sailing 1 & 2 - Course 1
DESCRIPTION:
URL:https://ryeyachtclub.au/event/adult-start-sailing-1-2-course-1-2/
CATEGORIES:Adult Sailing,Sailing School
END:VEVENT
BEGIN:VEVENT
DTSTART;TZID=Australia/Melbourne:20251108T123000
DTEND;TZID=Australia/Melbourne:20251108T150000
DTSTAMP:20260423T232735
CREATED:20251008T001407Z
LAST-MODIFIED:20251008T001407Z
UID:718-1762605000-1762614000@ryeyachtclub.au
SUMMARY:Development Squad
DESCRIPTION:
URL:https://ryeyachtclub.au/event/development-squad-6/
CATEGORIES:Development Squad,Sailing School
END:VEVENT
BEGIN:VEVENT
DTSTART;TZID=Australia/Melbourne:20251108T153000
DTEND;TZID=Australia/Melbourne:20251108T173000
DTSTAMP:20260423T232735
CREATED:20251008T010636Z
LAST-MODIFIED:20251008T010636Z
UID:836-1762615800-1762623000@ryeyachtclub.au
SUMMARY:Adult Coaching
DESCRIPTION:
URL:https://ryeyachtclub.au/event/adult-coaching-2/
CATEGORIES:Adult Coaching,Sailing School
END:VEVENT
BEGIN:VEVENT
DTSTART;TZID=Australia/Melbourne:20251109T090000
DTEND;TZID=Australia/Melbourne:20251109T110000
DTSTAMP:20260423T232735
CREATED:20251007T234530Z
LAST-MODIFIED:20251007T234530Z
UID:645-1762678800-1762686000@ryeyachtclub.au
SUMMARY:Tackers Course 1
DESCRIPTION:
URL:https://ryeyachtclub.au/event/tackers-course-1-2/
CATEGORIES:Sailing School,Tackers
END:VEVENT
BEGIN:VEVENT
DTSTART;TZID=Australia/Melbourne:20251109T090000
DTEND;TZID=Australia/Melbourne:20251109T113000
DTSTAMP:20260423T232735
CREATED:20251008T001643Z
LAST-MODIFIED:20251008T001643Z
UID:726-1762678800-1762687800@ryeyachtclub.au
SUMMARY:Development Squad
DESCRIPTION:
URL:https://ryeyachtclub.au/event/development-squad-10/
CATEGORIES:Development Squad,Sailing School
END:VEVENT
BEGIN:VEVENT
DTSTART;TZID=Australia/Melbourne:20251115T090000
DTEND;TZID=Australia/Melbourne:20251115T113000
DTSTAMP:20260423T232735
CREATED:20251008T000010Z
LAST-MODIFIED:20251008T000010Z
UID:680-1763197200-1763206200@ryeyachtclub.au
SUMMARY:OutThere Sailing
DESCRIPTION:
URL:https://ryeyachtclub.au/event/outthere-sailing-3/
CATEGORIES:OutThere Sailing,Sailing School
END:VEVENT
BEGIN:VEVENT
DTSTART;TZID=Australia/Melbourne:20251115T090000
DTEND;TZID=Australia/Melbourne:20251115T150000
DTSTAMP:20260423T232735
CREATED:20251008T005401Z
LAST-MODIFIED:20251008T005401Z
UID:799-1763197200-1763218800@ryeyachtclub.au
SUMMARY:Adult Start Sailing 1 & 2 - Course 1
DESCRIPTION:
URL:https://ryeyachtclub.au/event/adult-start-sailing-1-2-course-1-3/
CATEGORIES:Adult Sailing,Sailing School
END:VEVENT
BEGIN:VEVENT
DTSTART;TZID=Australia/Melbourne:20251115T123000
DTEND;TZID=Australia/Melbourne:20251115T150000
DTSTAMP:20260423T232735
CREATED:20251008T001450Z
LAST-MODIFIED:20251008T001450Z
UID:720-1763209800-1763218800@ryeyachtclub.au
SUMMARY:Development Squad
DESCRIPTION:
URL:https://ryeyachtclub.au/event/development-squad-7/
CATEGORIES:Development Squad,Sailing School
END:VEVENT
BEGIN:VEVENT
DTSTART;TZID=Australia/Melbourne:20251115T153000
DTEND;TZID=Australia/Melbourne:20251115T173000
DTSTAMP:20260423T232735
CREATED:20251008T010704Z
LAST-MODIFIED:20251008T010704Z
UID:838-1763220600-1763227800@ryeyachtclub.au
SUMMARY:Adult Coaching
DESCRIPTION:
URL:https://ryeyachtclub.au/event/adult-coaching-3/
CATEGORIES:Adult Coaching,Sailing School
END:VEVENT
BEGIN:VEVENT
DTSTART;TZID=Australia/Melbourne:20251116T090000
DTEND;TZID=Australia/Melbourne:20251116T113000
DTSTAMP:20260423T232735
CREATED:20251007T234620Z
LAST-MODIFIED:20251007T234620Z
UID:647-1763283600-1763292600@ryeyachtclub.au
SUMMARY:Tackers Course 1
DESCRIPTION:
URL:https://ryeyachtclub.au/event/tackers-course-1-3/
CATEGORIES:Sailing School,Tackers
END:VEVENT
BEGIN:VEVENT
DTSTART;TZID=Australia/Melbourne:20251116T090000
DTEND;TZID=Australia/Melbourne:20251116T113000
DTSTAMP:20260423T232735
CREATED:20251008T001709Z
LAST-MODIFIED:20251008T001709Z
UID:728-1763283600-1763292600@ryeyachtclub.au
SUMMARY:Development Squad
DESCRIPTION:
URL:https://ryeyachtclub.au/event/development-squad-11/
CATEGORIES:Development Squad,Sailing School
END:VEVENT
BEGIN:VEVENT
DTSTART;TZID=Australia/Melbourne:20251129T090000
DTEND;TZID=Australia/Melbourne:20251129T113000
DTSTAMP:20260423T232735
CREATED:20251008T000111Z
LAST-MODIFIED:20251008T000111Z
UID:682-1764406800-1764415800@ryeyachtclub.au
SUMMARY:OutThere Sailing
DESCRIPTION:
URL:https://ryeyachtclub.au/event/outthere-sailing-4/
CATEGORIES:OutThere Sailing,Sailing School
END:VEVENT
BEGIN:VEVENT
DTSTART;TZID=Australia/Melbourne:20251129T090000
DTEND;TZID=Australia/Melbourne:20251129T150000
DTSTAMP:20260423T232735
CREATED:20251008T005432Z
LAST-MODIFIED:20251008T005432Z
UID:801-1764406800-1764428400@ryeyachtclub.au
SUMMARY:Adult Start Sailing 1 & 2 - Course 1
DESCRIPTION:
URL:https://ryeyachtclub.au/event/adult-start-sailing-1-2-course-1-4/
CATEGORIES:Adult Sailing,Sailing School
END:VEVENT
BEGIN:VEVENT
DTSTART;TZID=Australia/Melbourne:20251129T123000
DTEND;TZID=Australia/Melbourne:20251129T150000
DTSTAMP:20260423T232735
CREATED:20251008T001517Z
LAST-MODIFIED:20251008T001517Z
UID:722-1764419400-1764428400@ryeyachtclub.au
SUMMARY:Development Squad
DESCRIPTION:
URL:https://ryeyachtclub.au/event/development-squad-8/
CATEGORIES:Development Squad,Sailing School
END:VEVENT
BEGIN:VEVENT
DTSTART;TZID=Australia/Melbourne:20251129T153000
DTEND;TZID=Australia/Melbourne:20251129T173000
DTSTAMP:20260423T232735
CREATED:20251008T010740Z
LAST-MODIFIED:20251008T010740Z
UID:840-1764430200-1764437400@ryeyachtclub.au
SUMMARY:Adult Coaching
DESCRIPTION:
URL:https://ryeyachtclub.au/event/adult-coaching-4/
CATEGORIES:Adult Coaching,Sailing School
END:VEVENT
BEGIN:VEVENT
DTSTART;TZID=Australia/Melbourne:20251130T090000
DTEND;TZID=Australia/Melbourne:20251130T113000
DTSTAMP:20260423T232735
CREATED:20251007T234712Z
LAST-MODIFIED:20251007T234712Z
UID:649-1764493200-1764502200@ryeyachtclub.au
SUMMARY:Tackers Course 1
DESCRIPTION:
URL:https://ryeyachtclub.au/event/tackers-course-1-4/
CATEGORIES:Sailing School,Tackers
END:VEVENT
BEGIN:VEVENT
DTSTART;TZID=Australia/Melbourne:20251130T090000
DTEND;TZID=Australia/Melbourne:20251130T113000
DTSTAMP:20260423T232735
CREATED:20251008T001740Z
LAST-MODIFIED:20251008T001740Z
UID:730-1764493200-1764502200@ryeyachtclub.au
SUMMARY:Development Squad
DESCRIPTION:
URL:https://ryeyachtclub.au/event/development-squad-12/
CATEGORIES:Development Squad,Sailing School
END:VEVENT
END:VCALENDAR